BEGIN:VCALENDAR
PRODID:-//kirchenweb.ch gmbh//veranstaltungsausgabe v2.0//DE
VERSION:2.0
METHOD:PUBLISH
BEGIN:VEVENT
DTSTART:20241224T153000Z
DTEND:20241224T163000Z
LOCATION:Evang. Kirche Kirchberg\, Rätenbergstrasse 12\, 9533 Kirchberg
  SG
TRANSP:OPAQUE
SEQUENCE:0
UID:13982-veranstaltung@ref-toggenburg.ch
DTSTAMP:20241025T080342Z
DESCRIPTION:Kontakt: Evang. Pfarramt\n\nWeitere Infos:
  https://www.ref-toggenburg.ch/veranstaltung/13982
SUMMARY:Heiligabend-Gottesdienst\, mit Singtreff
PRIORITY:5
X-MICROSOFT-CDO-IMPORTANCE:1
CLASS:PUBLIC
END:VEVENT
END:VCALENDAR
