BEGIN:VCALENDAR
PRODID:-//kirchenweb.ch gmbh//veranstaltungsausgabe v2.0//DE
VERSION:2.0
METHOD:PUBLISH
BEGIN:VEVENT
DTSTART:20241214T160000Z
DTEND:20241214T190000Z
LOCATION:Kath. Kirche Bazenheid = Treffpunkt. Je nach Witterung: im Wald\,
  Kirchstrasse 11\, 9602 Bazenheid
TRANSP:OPAQUE
SEQUENCE:0
UID:15200-veranstaltung@ref-toggenburg.ch
DTSTAMP:20231212T100621Z
DESCRIPTION:Für Kinder ab 3 Jahren bis Ende Kindergarten in Begleitung
  eines Erwachsenen.\n\nKontakt: Conny Keller\, Weidstrasse 5\, 9602
  Bazenheid\, 079 601 67 66\n\nWeitere Infos:
  https://www.ref-toggenburg.ch/veranstaltung/15200
SUMMARY:Ökumenische Chinderfiir (Weihnachtsfeier mit kleinem Imbiss)
PRIORITY:5
X-MICROSOFT-CDO-IMPORTANCE:1
CLASS:PUBLIC
END:VEVENT
END:VCALENDAR
