BEGIN:VCALENDAR
PRODID:-//kirchenweb.ch gmbh//veranstaltungsausgabe v2.0//DE
VERSION:2.0
METHOD:PUBLISH
BEGIN:VEVENT
DTSTART:20250629T080000Z
DTEND:20250629T090000Z
LOCATION:Bauernhof von Patrick Bosshart\, Letten\, Letten 3028\, 9533
  Dietschwil
TRANSP:OPAQUE
SEQUENCE:0
UID:15854-veranstaltung@ref-toggenburg.ch
DTSTAMP:20250622T152631Z
DESCRIPTION:Wir laden Sie herzlich zum geselligen Hofgottesdienst ein. Er
  findet dieses Jahr auf dem Bauernhof von Patrick Bosshart statt (bei
  jedem Wetter). Nach dem Gottesdienst geniessen wir unsere selbst
  mitgebrachten Grilladen. Geschirr und Besteck bitte selber mitnehmen.
  Getränke und Kaffee werden von der Kirchgemeinde offeriert. Möchten Sie
  einen Salat oder einen Dessert spendieren? Dann schreiben Sie bitte
  Michael Stübi eine Nachricht. Vielen Dank.\nFür den Fahrdienst kann man
  sich gerne wie gewohnt ans Taxiunternehmen TE Taxi wenden:
  https://www.refkirchberg.ch/fahrdienst\n\nWegbeschreibung\nBei der Firma
  Dürst ins Fahrverbot Richtung Norden fahren. Es ist der zweite Hof an
  der Strasse.\n\n\nKontakt: Michael Stübi\n\nWeitere Infos:
  https://www.ref-toggenburg.ch/veranstaltung/15854
SUMMARY:Hofgottesdienst\, mit Singtreff\, Grillieren
PRIORITY:5
X-MICROSOFT-CDO-IMPORTANCE:1
CLASS:PUBLIC
END:VEVENT
END:VCALENDAR
