BEGIN:VCALENDAR
PRODID:-//kirchenweb.ch gmbh//veranstaltungsausgabe v2.0//DE
VERSION:2.0
METHOD:PUBLISH
BEGIN:VEVENT
DTSTART:20250720T080000Z
DTEND:20250720T090000Z
LOCATION:Evang. Kirche Kirchberg\, Rätenbergstrasse 12\, 9533 Kirchberg
  SG
TRANSP:OPAQUE
SEQUENCE:0
UID:16027-veranstaltung@ref-toggenburg.ch
DTSTAMP:20250717T055630Z
DESCRIPTION:mit Kirchgemeinde Unteres Toggenburg\n\nKontakt: Evang.
  Pfarramt\n\nWeitere Infos:
  https://www.ref-toggenburg.ch/veranstaltung/16027
SUMMARY:Regio-Gottesdienst\, Kirchenkaffee
PRIORITY:5
X-MICROSOFT-CDO-IMPORTANCE:1
CLASS:PUBLIC
END:VEVENT
END:VCALENDAR
