BEGIN:VCALENDAR
PRODID:-//kirchenweb.ch gmbh//veranstaltungsausgabe v2.0//DE
VERSION:2.0
METHOD:PUBLISH
BEGIN:VEVENT
DTSTART:20250810T080000Z
DTEND:20250810T090000Z
LOCATION:Evang. Kirche Kirchberg\, Rätenbergstrasse 12\, 9533 Kirchberg
  SG
TRANSP:OPAQUE
SEQUENCE:0
UID:16029-veranstaltung@ref-toggenburg.ch
DTSTAMP:20250806T092246Z
DESCRIPTION:Lieder: 156\, 57\, 825\n\nKontakt: Evang. Pfarramt\n\nWeitere
  Infos: https://www.ref-toggenburg.ch/veranstaltung/16029
SUMMARY:Gottesdienst
PRIORITY:5
X-MICROSOFT-CDO-IMPORTANCE:1
CLASS:PUBLIC
END:VEVENT
END:VCALENDAR
