BEGIN:VCALENDAR
PRODID:-//kirchenweb.ch gmbh//veranstaltungsausgabe v2.0//DE
VERSION:2.0
METHOD:PUBLISH
BEGIN:VEVENT
DTSTART:20251012T073000Z
DTEND:20251012T083000Z
LOCATION:Evang. Kirche Ganterschwil\, Aewilerstrasse 1\, 9608 Ganterschwil
TRANSP:OPAQUE
SEQUENCE:0
UID:16033-veranstaltung@ref-toggenburg.ch
DTSTAMP:20251009T151124Z
DESCRIPTION:Kirchenbus Bütschwil\, Bahnhof: 9.10 Uhr Ganterschwil\, Alte
  Post an: 9.15 Uhr. Rückfahrt: 11.00 Uhr\n\nKontakt: Evang. Pfarramt\n
 \nWeitere Infos: https://www.ref-toggenburg.ch/veranstaltung/16033
SUMMARY:Regio Gottesdienst in Ganterschwil\, mit Kirchenkaffee
PRIORITY:5
X-MICROSOFT-CDO-IMPORTANCE:1
CLASS:PUBLIC
END:VEVENT
END:VCALENDAR
