BEGIN:VCALENDAR
PRODID:-//kirchenweb.ch gmbh//veranstaltungsausgabe v2.0//DE
VERSION:2.0
METHOD:PUBLISH
BEGIN:VEVENT
DTSTART:20251026T090000Z
DTEND:20251026T100000Z
LOCATION:Evang. Kirche Kirchberg\, Rätenbergstrasse 12\, 9533 Kirchberg
  SG
TRANSP:OPAQUE
SEQUENCE:0
UID:16035-veranstaltung@ref-toggenburg.ch
DTSTAMP:20251021T130702Z
DESCRIPTION:Der Mitenandgottesdienst ist ein Gottesdienst für Gross und
  Klein\, von einem Team vorbereitet\, mit moderner Musik und
  anschliessendem Apéro.\n\nKontakt: Evang. Pfarramt\n\nWeitere Infos:
  https://www.ref-toggenburg.ch/veranstaltung/16035
SUMMARY:Mitenandgottesdienst\, mit Taufe\, Apéro
PRIORITY:5
X-MICROSOFT-CDO-IMPORTANCE:1
CLASS:PUBLIC
END:VEVENT
END:VCALENDAR
