BEGIN:VCALENDAR
PRODID:-//kirchenweb.ch gmbh//veranstaltungsausgabe v2.0//DE
VERSION:2.0
METHOD:PUBLISH
BEGIN:VEVENT
DTSTART:20250817T080000Z
DTEND:20250817T090000Z
LOCATION:Kapelle Dietschwil\, Landstrasse 14A\, 9533 Dietschwil
TRANSP:OPAQUE
SEQUENCE:0
UID:16042-veranstaltung@ref-toggenburg.ch
DTSTAMP:20250812T111712Z
DESCRIPTION:Kontakt: Evang. Pfarramt und Kath. Pfarramt\n\nWeitere Infos:
  https://www.ref-toggenburg.ch/veranstaltung/16042
SUMMARY:Ökumenischer Gottesdienst\, Apéro
PRIORITY:5
X-MICROSOFT-CDO-IMPORTANCE:1
CLASS:PUBLIC
END:VEVENT
END:VCALENDAR
