BEGIN:VCALENDAR
PRODID:-//kirchenweb.ch gmbh//veranstaltungsausgabe v2.0//DE
VERSION:2.0
METHOD:PUBLISH
BEGIN:VEVENT
DTSTART:20250921T083000Z
DTEND:20250921T093000Z
LOCATION:Evang. Kirche Kirchberg\, Rätenbergstrasse 12\, 9533 Kirchberg
  SG
TRANSP:OPAQUE
SEQUENCE:0
UID:16129-veranstaltung@ref-toggenburg.ch
DTSTAMP:20250914T083717Z
DESCRIPTION:Kontakt: Kath. und Evang. Pfarramt\n\nWeitere Infos:
  https://www.ref-toggenburg.ch/veranstaltung/16129
SUMMARY:Ökumenischer Gottesdienst zum Eidg. Dank-\, Buss- und Bettag\,
  Musikalische Gestaltung: Pianoxa-Chor. Apéro
PRIORITY:5
X-MICROSOFT-CDO-IMPORTANCE:1
CLASS:PUBLIC
END:VEVENT
END:VCALENDAR
