BEGIN:VCALENDAR
PRODID:-//kirchenweb.ch gmbh//veranstaltungsausgabe v2.0//DE
VERSION:2.0
METHOD:PUBLISH
BEGIN:VEVENT
DTSTART:20260920T083000Z
DTEND:20260920T093000Z
LOCATION:Kath. Kirche Bazenheid\, Kirchgasse 11\, 9602 Bazenheid
TRANSP:OPAQUE
SEQUENCE:0
UID:16130-veranstaltung@ref-toggenburg.ch
DTSTAMP:20260324T160643Z
DESCRIPTION:Kontakt: Evang. Pfarramt und Kath. Pfarramt\n\nWeitere Infos:
  https://www.ref-toggenburg.ch/veranstaltung/16130
SUMMARY:Ökumenischer Gottesdienst zum Eidg. Dank-\, Buss- und Bettag\,
  Apèro
PRIORITY:5
X-MICROSOFT-CDO-IMPORTANCE:1
CLASS:PUBLIC
END:VEVENT
END:VCALENDAR
