BEGIN:VCALENDAR
PRODID:-//kirchenweb.ch gmbh//veranstaltungsausgabe v2.0//DE
VERSION:2.0
METHOD:PUBLISH
BEGIN:VEVENT
DTSTART:20250814T153000Z
DTEND:20250814T160000Z
LOCATION:Kath. Kirche Bazenheid\, Kirchgasse 11\, 9602 Bazenheid
TRANSP:OPAQUE
SEQUENCE:0
UID:16145-veranstaltung@ref-toggenburg.ch
DTSTAMP:20250813T174652Z
DESCRIPTION:Kontakt: Kath. Pfarramt\, Evang. Pfarramt\n\nWeitere Infos:
  https://www.ref-toggenburg.ch/veranstaltung/16145
SUMMARY:Ökumenischer Gottesdienst zum Schulanfang\, Wurst und Brot
PRIORITY:5
X-MICROSOFT-CDO-IMPORTANCE:1
CLASS:PUBLIC
END:VEVENT
END:VCALENDAR
