BEGIN:VCALENDAR
PRODID:-//kirchenweb.ch gmbh//veranstaltungsausgabe v2.0//DE
VERSION:2.0
METHOD:PUBLISH
BEGIN:VEVENT
DTSTART:20250812T153000Z
DTEND:20250812T163000Z
LOCATION:Evang. Kirche Kirchberg\, Rätenbergstrasse 12\, 9533 Kirchberg
TRANSP:OPAQUE
SEQUENCE:0
UID:16146-veranstaltung@ref-toggenburg.ch
DTSTAMP:20250616T182836Z
DESCRIPTION:Wir freuen uns\, wenn Sie als Eltern oder Grosseltern ihr
  Kind/ihre Kinder begleiten! Die Geschwister und alle\, die mitfeiern
  möchten\, sind ebenfalls herzlich willkommen. Wichtig ist uns\, dass die
  Kinder mit einer Betreuungsperson zum Gottesdienst kommen und in der
  Kirche bei den Erwachsenen sitzen.\nAnschliessend an den Gottesdienst
  sind alle zum gemütlichen Grillplausch eingeladen.\n\nKontakt: Michael
  Hanke\, Brigitte Witzig\, Diakonin\, Religionslehrpersonen\n\nWeitere
  Infos: https://www.ref-toggenburg.ch/veranstaltung/16146
SUMMARY:Ökumenischer Gottesdienst zum Schulanfang\, Wurst und Brot
PRIORITY:5
X-MICROSOFT-CDO-IMPORTANCE:1
CLASS:PUBLIC
END:VEVENT
END:VCALENDAR
