BEGIN:VCALENDAR
PRODID:-//kirchenweb.ch gmbh//veranstaltungsausgabe v2.0//DE
VERSION:2.0
METHOD:PUBLISH
BEGIN:VEVENT
DTSTART:20250105T090000Z
DTEND:20250105T100000Z
LOCATION:Evang. Kirchgemeindehaus Bazenheid\, Neugasse 8\, 9602 Bazenheid
TRANSP:OPAQUE
SEQUENCE:0
UID:16202-veranstaltung@ref-toggenburg.ch
DTSTAMP:20250320T091153Z
DESCRIPTION:Lieder: RG  50\, 279\, 296\, 553\, 409\n\nKontakt: Evang.
  Pfarramt\n\nWeitere Infos:
  https://www.ref-toggenburg.ch/veranstaltung/16202
SUMMARY:Gottesdienst\, Neujahrsapéro
PRIORITY:5
X-MICROSOFT-CDO-IMPORTANCE:1
CLASS:PUBLIC
END:VEVENT
END:VCALENDAR
