BEGIN:VCALENDAR
PRODID:-//kirchenweb.ch gmbh//veranstaltungsausgabe v2.0//DE
VERSION:2.0
METHOD:PUBLISH
BEGIN:VEVENT
DTSTART:20251102T090000Z
DTEND:20251102T100000Z
LOCATION:Evang. Kirchgemeindehaus Bazenheid\, Neugasse 8\, 9602 Bazenheid
TRANSP:OPAQUE
SEQUENCE:0
UID:16212-veranstaltung@ref-toggenburg.ch
DTSTAMP:20251031T080709Z
DESCRIPTION:Gemeinsam feiern und geniessen\nAm diesjährigen
  Reformationssonntag hat die Kirchgemeinde herzlich zu einem festlichen
  Reformationstag mit Gottesdienst und anschliessend festlich gedecktem
  Tisch. Dieses Racletteessen inklusive Tischabendmahl ist nun mangels
  genügend Anmeldungen abgesagt.\n\n\nKontakt: Evang. Pfarramt\n\nWeitere
  Infos: https://www.ref-toggenburg.ch/veranstaltung/16212
SUMMARY:Gottesdienst\, Reformationssonntag\, mit Abendmahl (ohne
  Raclettessen - mangels genügend Angemeldeter abgesagt)
PRIORITY:5
X-MICROSOFT-CDO-IMPORTANCE:1
CLASS:PUBLIC
END:VEVENT
END:VCALENDAR
