BEGIN:VCALENDAR
PRODID:-//kirchenweb.ch gmbh//veranstaltungsausgabe v2.0//DE
VERSION:2.0
METHOD:PUBLISH
BEGIN:VEVENT
DTSTART:20251108T130000Z
DTEND:20251108T160000Z
LOCATION:Kath. Kirche Kirchberg\, Husenstrasse\, 9533 Kirchberg SG
TRANSP:OPAQUE
SEQUENCE:0
UID:16268-veranstaltung@ref-toggenburg.ch
DTSTAMP:20251013T160618Z
DESCRIPTION:Ehejubiläum 10\, 20\, 25\, 30\, 40\, 50\, 60 oder mehr Jahre
 \n\nWir laden Sie ein zu einer ökumenischen Jubiläumsfeier am Samstag\,
  8. November\, um 14.00 Uhr in der Pfarrkirche Kirchberg. An diesem
  Nachmittag blicken wir in einem Gottesdienst auf Ihre gemeinsame Zeit als
  Paar zurück. Wir besinnen uns dabei auf all das Schöne\, welches Sie
  gemeinsam erlebt haben\, aber auch auf die schwierigeren Zeiten. Nach dem
  Gottesdienst treffen wir uns im Pfarreiheim zu einem gemütlichen
  Austausch mit Imbiss. Die Jubiläumspaare erhalten Anfang Oktober die
  Einladung. Falls Sie versehentlich keine Einladung erhalten\, melden Sie
  sich bitte beim Pfarramt. Die Einladung basiert auf dem Datum der
  Ziviltrauung. \nEheleute\, die keinen runden Anlass begehen\, sind
  ebenfalls herzlich eingeladen. Anmeldungen nimmt das Pfarreisekretariat
  Kirchberg entgegen\,\n\nKontakt: Evang. Pfarramt und Kath. Pfarramt\n
 \nWeitere Infos: https://www.ref-toggenburg.ch/veranstaltung/16268
SUMMARY:Ökumenischer Gottesdienst für Ehejubilare\, Apéro
PRIORITY:5
X-MICROSOFT-CDO-IMPORTANCE:1
CLASS:PUBLIC
END:VEVENT
END:VCALENDAR
