BEGIN:VCALENDAR
PRODID:-//kirchenweb.ch gmbh//veranstaltungsausgabe v2.0//DE
VERSION:2.0
METHOD:PUBLISH
BEGIN:VEVENT
DTSTART;VALUE=DATE:20250830
DTEND;VALUE=DATE:20250831
LOCATION:Kirchgemeinde\, \,
TRANSP:OPAQUE
SEQUENCE:0
UID:16408-veranstaltung@ref-toggenburg.ch
DTSTAMP:20250826T185514Z
DESCRIPTION:Kontakt: 0719941936\, esther.schiess@ref-nesslau.ch\n\nWeitere
  Infos: https://www.ref-toggenburg.ch/veranstaltung/16408
SUMMARY:Stellvertretung Pfarramt 30. August - 6. September 2025
PRIORITY:5
X-MICROSOFT-CDO-IMPORTANCE:1
CLASS:PUBLIC
END:VEVENT
END:VCALENDAR
