BEGIN:VCALENDAR
PRODID:-//kirchenweb.ch gmbh//veranstaltungsausgabe v2.0//DE
VERSION:2.0
METHOD:PUBLISH
BEGIN:VEVENT
DTSTART:20241221T173000Z
DTEND:20241221T200000Z
LOCATION:Evang. Kirche Kirchberg\, Rätenbergstrasse 12\, 9533 Kirchberg
TRANSP:OPAQUE
SEQUENCE:0
UID:16480-veranstaltung@ref-toggenburg.ch
DTSTAMP:20241220T212947Z
DESCRIPTION:Kontakt: Salome Witzig\n\nWeitere Infos:
  https://www.ref-toggenburg.ch/veranstaltung/16480
SUMMARY:TCK - Teenager Club Kirche
PRIORITY:5
X-MICROSOFT-CDO-IMPORTANCE:1
CLASS:PUBLIC
END:VEVENT
END:VCALENDAR
