BEGIN:VCALENDAR
PRODID:-//kirchenweb.ch gmbh//veranstaltungsausgabe v2.0//DE
VERSION:2.0
METHOD:PUBLISH
BEGIN:VEVENT
DTSTART:20250917T140000Z
DTEND:20250917T144000Z
LOCATION:Sonnegrund\, Kirchberg\, Florastrasse 5\, 9533 Kirchberg SG
TRANSP:OPAQUE
SEQUENCE:0
UID:16706-veranstaltung@ref-toggenburg.ch
DTSTAMP:20250827T073745Z
DESCRIPTION:Kontakt: Evang. Pfarramt\n\nWeitere Infos:
  https://www.ref-toggenburg.ch/veranstaltung/16706
SUMMARY:Gottesdienst im Sonnegrund
PRIORITY:5
X-MICROSOFT-CDO-IMPORTANCE:1
CLASS:PUBLIC
END:VEVENT
END:VCALENDAR
