BEGIN:VCALENDAR
PRODID:-//kirchenweb.ch gmbh//veranstaltungsausgabe v2.0//DE
VERSION:2.0
METHOD:PUBLISH
BEGIN:VEVENT
DTSTART:20251025T080000Z
DTEND:20251025T090000Z
LOCATION:Evang. Kirchgemeindehaus Bazenheid\, Neugasse 8\, 9602 Bazenheid
TRANSP:OPAQUE
SEQUENCE:0
UID:17153-veranstaltung@ref-toggenburg.ch
DTSTAMP:20251113T143535Z
DESCRIPTION:Kontakt: Conny Keller\, Weidstrasse 5\, 9602 Bazenheid\, 079
  601 67 66\n\nWeitere Infos:
  https://www.ref-toggenburg.ch/veranstaltung/17153
SUMMARY:Ökumenische Chinderfiir
PRIORITY:5
X-MICROSOFT-CDO-IMPORTANCE:1
CLASS:PUBLIC
END:VEVENT
END:VCALENDAR
