BEGIN:VCALENDAR
PRODID:-//kirchenweb.ch gmbh//veranstaltungsausgabe v2.0//DE
VERSION:2.0
METHOD:PUBLISH
BEGIN:VEVENT
DTSTART:20250904T120000Z
DTEND:20250904T150000Z
LOCATION:Evang. Kirchgemeindehaus Bazenheid\, Neugasse 8\, 9602 Bazenheid
TRANSP:OPAQUE
SEQUENCE:0
UID:17229-veranstaltung@ref-toggenburg.ch
DTSTAMP:20250424T150237Z
DESCRIPTION:Mit Kaffee und Kuchen\n\nKontakt: Ökumenische
  Seniorengruppe\,  Pia Forrer\n\nWeitere Infos:
  https://www.ref-toggenburg.ch/veranstaltung/17229
SUMMARY:Spiel- und Jassnachmittag
PRIORITY:5
X-MICROSOFT-CDO-IMPORTANCE:1
CLASS:PUBLIC
END:VEVENT
END:VCALENDAR
