BEGIN:VCALENDAR
PRODID:-//kirchenweb.ch gmbh//veranstaltungsausgabe v2.0//DE
VERSION:2.0
METHOD:PUBLISH
BEGIN:VEVENT
DTSTART:20250925T110000Z
DTEND:20250925T160000Z
LOCATION:wird noch bekannt gegeben\, \,
TRANSP:OPAQUE
SEQUENCE:0
UID:17258-veranstaltung@ref-toggenburg.ch
DTSTAMP:20251211T132749Z
DESCRIPTION:Das Proramm kann an den vorgängigen Veranstaltungen\, bei
  Hansueli Hausammann und Jolanda Brunschwiler bezogen werden. Es ist auch
  in beiden Kirchen aufgelegt. \n\nVerschiebedatum: 30.09.2025\n\nKontakt:
  Ökumenische Seniorengruppe\, Hansueli Hausammann\n079 523 26 89\n\n
 \nWeitere Infos: https://www.ref-toggenburg.ch/veranstaltung/17258
SUMMARY:Nachmittagswanderung
PRIORITY:5
X-MICROSOFT-CDO-IMPORTANCE:1
CLASS:PUBLIC
END:VEVENT
END:VCALENDAR
