BEGIN:VCALENDAR
PRODID:-//kirchenweb.ch gmbh//veranstaltungsausgabe v2.0//DE
VERSION:2.0
METHOD:PUBLISH
BEGIN:VEVENT
DTSTART:20251030T130000Z
DTEND:20251030T160000Z
LOCATION:Pfarreizentrum Bazenheid\, Kirchgasse 11\, 9602 Bazenheid
TRANSP:OPAQUE
SEQUENCE:0
UID:17259-veranstaltung@ref-toggenburg.ch
DTSTAMP:20251211T125449Z
DESCRIPTION:Wir zeigen den Film "Wir sind die Neuen". Nachher lassen wir
  den Nachmittag bei Kaffee und Kuchen ausklingen\, bis ca. 16.30 Uhr.\n
 \nKontakt: Ökumenische Seniorengruppe\, Jolanda Brunschwiler\, 071 931 13
  24\, 078 733 30 78\n\nWeitere Infos:
  https://www.ref-toggenburg.ch/veranstaltung/17259
SUMMARY:Filmnachmittag
PRIORITY:5
X-MICROSOFT-CDO-IMPORTANCE:1
CLASS:PUBLIC
END:VEVENT
END:VCALENDAR
