BEGIN:VCALENDAR
PRODID:-//kirchenweb.ch gmbh//veranstaltungsausgabe v2.0//DE
VERSION:2.0
METHOD:PUBLISH
BEGIN:VEVENT
DTSTART:20250920T070000Z
DTEND:20250920T150000Z
LOCATION:Bahnhofplatz\, Bahnhofstrasse\, 9602 Bazenheid
TRANSP:OPAQUE
SEQUENCE:0
UID:17287-veranstaltung@ref-toggenburg.ch
DTSTAMP:20250829T082413Z
DESCRIPTION:Auch am diesjährigen https://www.refkirchberg.ch/bericht/1252
  laden wieder die Kirchenvorsteherschaft und viele Mitglieder und
  Mitarbeitende der Evangelisch-reformierten Kirchgemeinde Kirchberg zu
  einem Tag der Begegnungen und Gastfreundschaft ein.\n\nKontakt: Brigitte
  Witzig\, Diakonin\n\nWeitere Infos:
  https://www.ref-toggenburg.ch/veranstaltung/17287
SUMMARY:Kirchgemeinde am Jahrmarkt Bazenheid
PRIORITY:5
X-MICROSOFT-CDO-IMPORTANCE:1
CLASS:PUBLIC
END:VEVENT
END:VCALENDAR
