BEGIN:VCALENDAR
PRODID:-//kirchenweb.ch gmbh//veranstaltungsausgabe v2.0//DE
VERSION:2.0
METHOD:PUBLISH
BEGIN:VEVENT
DTSTART:20250107T190000Z
DTEND:20250107T203000Z
LOCATION:Evang. Kirche Kirchberg\, Rätenbergstrasse 12\, 9533 Kirchberg
  SG
TRANSP:OPAQUE
SEQUENCE:0
UID:17336-veranstaltung@ref-toggenburg.ch
DTSTAMP:20241108T092058Z
DESCRIPTION:Chorprobe\n\nKontakt: Michael Stübi\, Kirchenmusiker\,\n
 \nWeitere Infos: https://www.ref-toggenburg.ch/veranstaltung/17336
SUMMARY:Singtreff
PRIORITY:5
X-MICROSOFT-CDO-IMPORTANCE:1
CLASS:PUBLIC
END:VEVENT
END:VCALENDAR
