BEGIN:VCALENDAR
PRODID:-//kirchenweb.ch gmbh//veranstaltungsausgabe v2.0//DE
VERSION:2.0
METHOD:PUBLISH
BEGIN:VEVENT
DTSTART:20251106T080000Z
DTEND:20251106T100000Z
LOCATION:Evang. Kirchgemeindehaus Bazenheid\, Neugasse 8\, 9602 Bazenheid
TRANSP:OPAQUE
SEQUENCE:0
UID:17345-veranstaltung@ref-toggenburg.ch
DTSTAMP:20250424T150804Z
DESCRIPTION:A. Rutz hat mit dem Velo ferne Länder besucht und wird uns
  viel über seine spannenden Erlebnisse berichten.\n\nWir freuen uns über
  viele Besucherinnen und Besucher!\nKosten Fr 6.--\n\n\nKontakt:
  Evangelischer Frauenverein\, Barbara Hollenstein\, 071 9316570\n\nWeitere
  Infos: https://www.ref-toggenburg.ch/veranstaltung/17345
SUMMARY:Frauenverein: Zmorge Treff  (A. Rutz macht mit uns eine Velofahrt
  ins Blaue)
PRIORITY:5
X-MICROSOFT-CDO-IMPORTANCE:1
CLASS:PUBLIC
END:VEVENT
END:VCALENDAR
