BEGIN:VCALENDAR
PRODID:-//kirchenweb.ch gmbh//veranstaltungsausgabe v2.0//DE
VERSION:2.0
METHOD:PUBLISH
BEGIN:VEVENT
DTSTART:20250911T070000Z
DTEND:20250911T090000Z
LOCATION:Evang. Kirchgemeindehaus Bazenheid\, Neugasse 8\, 9602 Bazenheid
TRANSP:OPAQUE
SEQUENCE:0
UID:17388-veranstaltung@ref-toggenburg.ch
DTSTAMP:20250505T130135Z
DESCRIPTION:Herr Casanova bringt uns den Beruf des Hafners und den
  Kachelofenbau näher.\n\nWir freuen uns über viele Besucherinnen und
  Besucher!\nKosten Fr 6.--\n\n\nKontakt: Evangelischer Frauenverein\,
  Barbara Hollenstein\, 071 9316570\n\nWeitere Infos:
  https://www.ref-toggenburg.ch/veranstaltung/17388
SUMMARY:Frauenverein: Zmorge Treff (der Hafner Mischa Casanova kommt)
PRIORITY:5
X-MICROSOFT-CDO-IMPORTANCE:1
CLASS:PUBLIC
END:VEVENT
END:VCALENDAR
