BEGIN:VCALENDAR
PRODID:-//kirchenweb.ch gmbh//veranstaltungsausgabe v2.0//DE
VERSION:2.0
METHOD:PUBLISH
BEGIN:VEVENT
DTSTART:20250107T113000Z
DTEND:20250107T130000Z
LOCATION:Restaurant Traube\, \, 9434 Gähwil
TRANSP:OPAQUE
SEQUENCE:0
UID:17535-veranstaltung@ref-toggenburg.ch
DTSTAMP:20260216T084033Z
DESCRIPTION:Kontakt: Claudia Rohrer\, 071 931 53 96\n\nWeitere Infos:
  https://www.ref-toggenburg.ch/veranstaltung/17535
SUMMARY:Seniorenzmittag für Gähwil
PRIORITY:5
X-MICROSOFT-CDO-IMPORTANCE:1
CLASS:PUBLIC
END:VEVENT
END:VCALENDAR
