BEGIN:VCALENDAR
PRODID:-//kirchenweb.ch gmbh//veranstaltungsausgabe v2.0//DE
VERSION:2.0
METHOD:PUBLISH
BEGIN:VEVENT
DTSTART:20251016T173000Z
DTEND:20251016T213000Z
LOCATION:Evang. Kirche Kirchberg\, Rätenbergstrasse 12\, 9533 Kirchberg
TRANSP:OPAQUE
SEQUENCE:0
UID:17661-veranstaltung@ref-toggenburg.ch
DTSTAMP:20241206T164742Z
DESCRIPTION:Kontakt: Harald Frauenfelder\n\nWeitere Infos:
  https://www.ref-toggenburg.ch/veranstaltung/17661
SUMMARY:Sitzung Kirchenvorsteherschaft
PRIORITY:5
X-MICROSOFT-CDO-IMPORTANCE:1
CLASS:PUBLIC
END:VEVENT
END:VCALENDAR
