BEGIN:VCALENDAR
PRODID:-//kirchenweb.ch gmbh//veranstaltungsausgabe v2.0//DE
VERSION:2.0
METHOD:PUBLISH
BEGIN:VEVENT
DTSTART:20251102T103000Z
DTEND:20251102T130000Z
LOCATION:Evang. Kirchgemeindehaus Bazenheid\, Neugasse 8\, 9602 Bazenheid
TRANSP:OPAQUE
SEQUENCE:0
UID:17670-veranstaltung@ref-toggenburg.ch
DTSTAMP:20251031T080916Z
DESCRIPTION:Mangels genügend Angemeldeter ABGESAGT\nAm diesjährigen
  Reformationssonntag lädt die Kirchgemeinde herzlich zum Gottesdienst
  ein. Nach einer besinnlichen Feier sind alle eingeladen\, gemeinsam am
  festlich gedeckten Tisch Platz zu nehmen. Das anschliessende
  Racletteessen bietet Gelegenheit\, sich in geselliger Runde
  auszutauschen\, zu lachen und gemeinsam den Sonntag zu geniessen. \n
 \nKontakt: corina.staub@refkirchberg.ch\n\nWeitere Infos:
  https://www.ref-toggenburg.ch/veranstaltung/17670
SUMMARY:Abgesagt: Raclette zum Reformationssonntag
PRIORITY:5
X-MICROSOFT-CDO-IMPORTANCE:1
CLASS:PUBLIC
END:VEVENT
END:VCALENDAR
