BEGIN:VCALENDAR
PRODID:-//kirchenweb.ch gmbh//veranstaltungsausgabe v2.0//DE
VERSION:2.0
METHOD:PUBLISH
BEGIN:VEVENT
DTSTART:20250913T080000Z
DTEND:20250913T090000Z
LOCATION:Evang. Kirche Kirchberg\, Rätenbergstrasse 12\, 9533 Kirchberg
TRANSP:OPAQUE
SEQUENCE:0
UID:18151-veranstaltung@ref-toggenburg.ch
DTSTAMP:20250923T100402Z
DESCRIPTION:Thema: der barmherzige Samariter\n\nKontakt: Corinne Fust\,
  Tulpenstrasse 1a\, Kirchberg\, 071 244 52 48\n\nWeitere Infos:
  https://www.ref-toggenburg.ch/veranstaltung/18151
SUMMARY:Ökumenische Chinderfiir
PRIORITY:5
X-MICROSOFT-CDO-IMPORTANCE:1
CLASS:PUBLIC
END:VEVENT
END:VCALENDAR
