BEGIN:VCALENDAR
PRODID:-//kirchenweb.ch gmbh//veranstaltungsausgabe v2.0//DE
VERSION:2.0
METHOD:PUBLISH
BEGIN:VEVENT
DTSTART:20250621T070000Z
DTEND:20250621T120000Z
LOCATION:Evangelische Kirche\, Raum "Himmel"\, Rätenbergstrasse 12\, 9533
  Kirchberg
TRANSP:OPAQUE
SEQUENCE:0
UID:18187-veranstaltung@ref-toggenburg.ch
DTSTAMP:20250610T083108Z
DESCRIPTION:Der KiKi Treff macht einen Ausflug. Wir verabschieden unsere
  langjährige Leiterin Monika Schlegel\, essen Zmittag vom Grill und
  geniessen den schönen Platz im Wald. Schlechtwetterprogramm ist in der
  Kirche.\nAnmeldung bis Montag\, 16. Juni an Michael Stübi 0763765377
 \nMitnehmen:\n• kleiner Rucksack\n• Trinkflasche gefüllt\n• gute
  Schuhe\n• dem Wetter angepasste Kleidung\n• Sackmesser\n•
  Sonnenschutz\, bereits eingecremt\n• Zeckenschutz bereits eingesprüht
 \nFürs Essen sorgt das Leiterteam.\n\nKontakt: Rosmarie Graf\, 071 931 24
  29\n\nWeitere Infos: https://www.ref-toggenburg.ch/veranstaltung/18187
SUMMARY:KiKi Treff Ausflug
PRIORITY:5
X-MICROSOFT-CDO-IMPORTANCE:1
CLASS:PUBLIC
END:VEVENT
END:VCALENDAR
