BEGIN:VCALENDAR
PRODID:-//kirchenweb.ch gmbh//veranstaltungsausgabe v2.0//DE
VERSION:2.0
METHOD:PUBLISH
BEGIN:VEVENT
DTSTART:20250630T173000Z
DTEND:20250630T190000Z
LOCATION:Säli Kirche Kirchberg\, Rätenbergstrasse 12 \, \,
TRANSP:OPAQUE
SEQUENCE:0
UID:18285-veranstaltung@ref-toggenburg.ch
DTSTAMP:20250615T125900Z
DESCRIPTION:Kontakt: kathi.stiefel@refkirchberg.ch\n\nWeitere Infos:
  https://www.ref-toggenburg.ch/veranstaltung/18285
SUMMARY:Infoabend Pfefferstern
PRIORITY:5
X-MICROSOFT-CDO-IMPORTANCE:1
CLASS:PUBLIC
END:VEVENT
END:VCALENDAR
