BEGIN:VCALENDAR
PRODID:-//kirchenweb.ch gmbh//veranstaltungsausgabe v2.0//DE
VERSION:2.0
METHOD:PUBLISH
BEGIN:VEVENT
DTSTART:20250914T173000Z
DTEND:20250914T183000Z
LOCATION:Kapelle Dietschwil\, \, 9533 Dietschwil
TRANSP:OPAQUE
SEQUENCE:0
UID:18324-veranstaltung@ref-toggenburg.ch
DTSTAMP:20250911T091230Z
DESCRIPTION:Kontakt: Conchi Walker/ Kath. Pfarramt\n\nWeitere Infos:
  https://www.ref-toggenburg.ch/veranstaltung/18324
SUMMARY:Ökumenisches Taizé-Abendgebet mit Gesängen aus Taizé
PRIORITY:5
X-MICROSOFT-CDO-IMPORTANCE:1
CLASS:PUBLIC
END:VEVENT
END:VCALENDAR
