BEGIN:VCALENDAR
PRODID:-//kirchenweb.ch gmbh//veranstaltungsausgabe v2.0//DE
VERSION:2.0
METHOD:PUBLISH
BEGIN:VEVENT
DTSTART:20250615T091500Z
DTEND:20250615T094500Z
LOCATION:Evang. Kirche Kirchberg\, Vorplatz\, Rätenbergstrasse 12\, 9533
  Kirchberg
TRANSP:OPAQUE
SEQUENCE:0
UID:18464-veranstaltung@ref-toggenburg.ch
DTSTAMP:20260220T215001Z
DESCRIPTION:Kontakt: martin.schweizer@refkirchberg.ch\n\nWeitere Infos:
  https://www.ref-toggenburg.ch/veranstaltung/18464
SUMMARY:Ständchen der Musikgesellschaft Bazenheid
PRIORITY:5
X-MICROSOFT-CDO-IMPORTANCE:1
CLASS:PUBLIC
END:VEVENT
END:VCALENDAR
