BEGIN:VCALENDAR
PRODID:-//kirchenweb.ch gmbh//veranstaltungsausgabe v2.0//DE
VERSION:2.0
METHOD:PUBLISH
BEGIN:VEVENT
DTSTART:20261101T090000Z
DTEND:20261101T100000Z
LOCATION:Evang. Kirchgemeindehaus Bazenheid\, Neugasse 8\, 9602 Bazenheid
TRANSP:OPAQUE
SEQUENCE:0
UID:18465-veranstaltung@ref-toggenburg.ch
DTSTAMP:20260325T160000Z
DESCRIPTION:Kontakt: Evang. Pfarramt\n\nWeitere Infos:
  https://www.ref-toggenburg.ch/veranstaltung/18465
SUMMARY:Gottesdienst\, Reformationssonntag\, mit Abendmahl
PRIORITY:5
X-MICROSOFT-CDO-IMPORTANCE:1
CLASS:PUBLIC
END:VEVENT
END:VCALENDAR
