BEGIN:VCALENDAR
PRODID:-//kirchenweb.ch gmbh//veranstaltungsausgabe v2.0//DE
VERSION:2.0
METHOD:PUBLISH
BEGIN:VEVENT
DTSTART:20260405T034500Z
DTEND:20260405T044500Z
LOCATION:Evang. Kirche Kirchberg\, Rätenbergstrasse 12\, 9533 Kirchberg
  SG
TRANSP:OPAQUE
SEQUENCE:0
UID:18480-veranstaltung@ref-toggenburg.ch
DTSTAMP:20260404T065438Z
DESCRIPTION:eine Ostermorgen-Liturgie (mit Feuer und Zmorge). Besammlung
  vor der Kirche\n\nKontakt: Evang. Pfarramt\n\nWeitere Infos:
  https://www.ref-toggenburg.ch/veranstaltung/18480
SUMMARY:Gottesdienst am Ostermorgen\, mit Zmorge
PRIORITY:5
X-MICROSOFT-CDO-IMPORTANCE:1
CLASS:PUBLIC
END:VEVENT
END:VCALENDAR
