BEGIN:VCALENDAR
PRODID:-//kirchenweb.ch gmbh//veranstaltungsausgabe v2.0//DE
VERSION:2.0
METHOD:PUBLISH
BEGIN:VEVENT
DTSTART:20260910T070000Z
DTEND:20260910T090000Z
LOCATION:Evang. Kirchgemeindehaus Bazenheid\, Neugasse 8\, 9602 Bazenheid
TRANSP:OPAQUE
SEQUENCE:0
UID:18640-veranstaltung@ref-toggenburg.ch
DTSTAMP:20260112T151345Z
DESCRIPTION:Die Polizei kommt Teil 2! \nWir erhalten Tipps zum Thema
  Cyberkriminalität.\n\nWir freuen uns über viele Besucherinnen und
  Besucher!\nKosten Fr 8.--\n\n\nKontakt: Evangelischer Frauenverein\,
  Barbara Hollenstein\, 071 9316570\n\nWeitere Infos:
  https://www.ref-toggenburg.ch/veranstaltung/18640
SUMMARY:Frauenverein: Zmorge Treff (Die Polizei kommt Teil 2!)
PRIORITY:5
X-MICROSOFT-CDO-IMPORTANCE:1
CLASS:PUBLIC
END:VEVENT
END:VCALENDAR
