BEGIN:VCALENDAR
PRODID:-//kirchenweb.ch gmbh//veranstaltungsausgabe v2.0//DE
VERSION:2.0
METHOD:PUBLISH
BEGIN:VEVENT
DTSTART:20261105T080000Z
DTEND:20261105T100000Z
LOCATION:Evang. Kirchgemeindehaus Bazenheid\, Neugasse 8\, 9602 Bazenheid
TRANSP:OPAQUE
SEQUENCE:0
UID:18641-veranstaltung@ref-toggenburg.ch
DTSTAMP:20260112T151353Z
DESCRIPTION:En gmüetliche Morge mit Brigitte Witzig.\n\nWir freuen uns
  über viele Besucherinnen und Besucher!\nKosten Fr 8.--\n\n\nKontakt:
  Evangelischer Frauenverein\, Barbara Hollenstein\, 071 9316570\n\nWeitere
  Infos: https://www.ref-toggenburg.ch/veranstaltung/18641
SUMMARY:Frauenverein: Zmorge Treff (Brigitte Witzig: Motto einfach
  gmüetlich)
PRIORITY:5
X-MICROSOFT-CDO-IMPORTANCE:1
CLASS:PUBLIC
END:VEVENT
END:VCALENDAR
