BEGIN:VCALENDAR
PRODID:-//kirchenweb.ch gmbh//veranstaltungsausgabe v2.0//DE
VERSION:2.0
METHOD:PUBLISH
BEGIN:VEVENT
DTSTART:20250920T130000Z
DTEND:20250920T134000Z
LOCATION:Sonnegrund Haus für Betagte\, Florastrasse 5\, 9533 Kirchberg
TRANSP:OPAQUE
SEQUENCE:0
UID:18700-veranstaltung@ref-toggenburg.ch
DTSTAMP:20250522T112603Z
DESCRIPTION:Der Singtreff gibt im Sonnegrund ein "Ständli". Es gibt auch
  Lieder zum Mitsingen. Danach gibt es für den Chor etwas zu essen und zu
  trinken.\n\nKontakt: Michael Stübi\n\nWeitere Infos:
  https://www.ref-toggenburg.ch/veranstaltung/18700
SUMMARY:Singtreff Konzert Sonnegrund
PRIORITY:5
X-MICROSOFT-CDO-IMPORTANCE:1
CLASS:PUBLIC
END:VEVENT
END:VCALENDAR
