BEGIN:VCALENDAR
PRODID:-//kirchenweb.ch gmbh//veranstaltungsausgabe v2.0//DE
VERSION:2.0
METHOD:PUBLISH
BEGIN:VEVENT
DTSTART:20251021T120000Z
DTEND:20251021T140000Z
LOCATION:Pfarreiheim Kirchberg\, Husenstrasse\, 9533 Kirchberg SG
TRANSP:OPAQUE
SEQUENCE:0
UID:18724-veranstaltung@ref-toggenburg.ch
DTSTAMP:20251007T130233Z
DESCRIPTION:Theaterstück mit 4 Schauspielenden im Seniorenalter\, gefolgt
  von einer moderierten Austauschrunde. Anschliessend Kaffee und Kuchen.\n
 \nKontakt: Gemeinde Kirchberg\, in Kooperation mit Kirchgemeinden Kath.
  Alttoggenburg und Evang. Kirchberg\n\nWeitere Infos:
  https://www.ref-toggenburg.ch/veranstaltung/18724
SUMMARY:Einsamkeit im Alter – Wege aus der Einsamkeit
PRIORITY:5
X-MICROSOFT-CDO-IMPORTANCE:1
CLASS:PUBLIC
END:VEVENT
END:VCALENDAR
