BEGIN:VCALENDAR
PRODID:-//kirchenweb.ch gmbh//veranstaltungsausgabe v2.0//DE
VERSION:2.0
METHOD:PUBLISH
BEGIN:VEVENT
DTSTART:20260826T130000Z
DTEND:20260826T134000Z
LOCATION:Sonnegrund\, Kirchberg\, Florastrasse 5\, 9533 Kirchberg SG
TRANSP:OPAQUE
SEQUENCE:0
UID:18787-veranstaltung@ref-toggenburg.ch
DTSTAMP:20260109T073647Z
DESCRIPTION:Kontakt: Evang. Pfarramt\n\nWeitere Infos:
  https://www.ref-toggenburg.ch/veranstaltung/18787
SUMMARY:Gottesdienst im Sonnegrund
PRIORITY:5
X-MICROSOFT-CDO-IMPORTANCE:1
CLASS:PUBLIC
END:VEVENT
END:VCALENDAR
