BEGIN:VCALENDAR
PRODID:-//kirchenweb.ch gmbh//veranstaltungsausgabe v2.0//DE
VERSION:2.0
METHOD:PUBLISH
BEGIN:VEVENT
DTSTART:20260306T180000Z
DTEND:20260306T200000Z
LOCATION:Evang. Kirchgemeindehaus\, Neugasse 8\, 9602 Bazenheid
TRANSP:OPAQUE
SEQUENCE:0
UID:18800-veranstaltung@ref-toggenburg.ch
DTSTAMP:20260213T123534Z
DESCRIPTION:Die Feier steht unter dem Titel «Ich will euch stärken\,
  kommt!».\n\nFrauen aus Nigeria haben die Liturgie für die Feier
  verfasst. Obschon es in Nigeria Frauen in wichtigen politischen\,
  wissenschaftlichen und kulturellen Ämtern gibt\, sind viele Rechte für
  Frauen noch nicht verwirklicht. In der Liturgie schildern Frauen aus 
  verschiedenen geografischen und sozialen Kontexten wie sie mit ihren
  alltäglichen Belastungen umgehen und wie sie im Glauben «Ruhe für die
  Seele» finden.\n\nDas ökumenische Vorbereitungsteam lädt Frauen und
  Männer zu dieser liturgischen Feier und zum anschliessenden Imbiss
  herzlich ein.\n\n\nKontakt: Brigitte Witzig\n\nWeitere Infos:
  https://www.ref-toggenburg.ch/veranstaltung/18800
SUMMARY:Ökumenischer Weltgebetstag
PRIORITY:5
X-MICROSOFT-CDO-IMPORTANCE:1
CLASS:PUBLIC
END:VEVENT
END:VCALENDAR
