BEGIN:VCALENDAR
PRODID:-//kirchenweb.ch gmbh//veranstaltungsausgabe v2.0//DE
VERSION:2.0
METHOD:PUBLISH
BEGIN:VEVENT
DTSTART:20261107T130000Z
DTEND:20261107T160000Z
LOCATION:Kath. Kirche Gähwil ?\, Lütenriedstrasse 4\, 9534 Gähwil
TRANSP:OPAQUE
SEQUENCE:0
UID:18856-veranstaltung@ref-toggenburg.ch
DTSTAMP:20260415T123012Z
DESCRIPTION:Ehejubiläum 10\, 20\, 25\, 30\, 40\, 50\, 60 oder mehr Jahre
 \nWir laden Sie ein zu einer ökumenischen Jubiläumsfeier in der Kath.
  Kirche Gähwil. \nAn diesem Nachmittag blicken wir in einem Gottesdienst
  auf Ihre gemeinsame Zeit als Paar zurück. Wir besinnen uns dabei auf all
  das Schöne\, welches Sie gemeinsam erlebt haben aber auch auf die
  schwierigeren Zeiten.\nNach dem Gottesdienst treffen wir uns zu einem
  gemütlichen Austausch mit Imbiss.\nDie Jubiläumspaare erhalten Anfang
  Oktober die Einladung. Falls Sie versehentlich keine Einladung erhalten\,
  melden Sie sich bitte beim Pfarramt. Die Einladung basiert auf dem Datum
  der Ziviltrauung. \nEheleute\, die keinen runden Anlass begehen\, sind
  ebenfalls herzlich eingeladen. Anmeldungen nimmt das Pfarreisekretariat
  in Kirchberg gerne entgegen.\n\nKontakt: Evang. Pfarramt und Kath.
  Pfarramt\n\nWeitere Infos:
  https://www.ref-toggenburg.ch/veranstaltung/18856
SUMMARY:Ökumenischer Gottesdienst für Ehejubilare\, Apéro
PRIORITY:5
X-MICROSOFT-CDO-IMPORTANCE:1
CLASS:PUBLIC
END:VEVENT
END:VCALENDAR
