BEGIN:VCALENDAR
PRODID:-//kirchenweb.ch gmbh//veranstaltungsausgabe v2.0//DE
VERSION:2.0
METHOD:PUBLISH
BEGIN:VEVENT
DTSTART:20260813T153000Z
DTEND:20260813T160000Z
LOCATION:Kath. Kirche Bazenheid\, Kirchgasse 11\, 9602 Bazenheid
TRANSP:OPAQUE
SEQUENCE:0
UID:18858-veranstaltung@ref-toggenburg.ch
DTSTAMP:20250923T122636Z
DESCRIPTION:Kontakt: Kath. Pfarramt\, Evang. Pfarramt\n\nWeitere Infos:
  https://www.ref-toggenburg.ch/veranstaltung/18858
SUMMARY:Ökumenischer Gottesdienst zum Schulanfang\, Wurst und Brot
PRIORITY:5
X-MICROSOFT-CDO-IMPORTANCE:1
CLASS:PUBLIC
END:VEVENT
END:VCALENDAR
