BEGIN:VCALENDAR
PRODID:-//kirchenweb.ch gmbh//veranstaltungsausgabe v2.0//DE
VERSION:2.0
METHOD:PUBLISH
BEGIN:VEVENT
DTSTART:20250701T070000Z
DTEND:20250701T083000Z
LOCATION:Kirchgemeindehaus Bazenheid\, Neugasse 8\, 9602 Bazenheid
TRANSP:OPAQUE
SEQUENCE:0
UID:18913-veranstaltung@ref-toggenburg.ch
DTSTAMP:20250619T104009Z
DESCRIPTION:Kontakt: Brigitte Witzig\n\nWeitere Infos:
  https://www.ref-toggenburg.ch/veranstaltung/18913
SUMMARY:Gemeinschaftsgarten
PRIORITY:5
X-MICROSOFT-CDO-IMPORTANCE:1
CLASS:PUBLIC
END:VEVENT
END:VCALENDAR
