BEGIN:VCALENDAR
PRODID:-//kirchenweb.ch gmbh//veranstaltungsausgabe v2.0//DE
VERSION:2.0
METHOD:PUBLISH
BEGIN:VEVENT
DTSTART:20250702T120000Z
DTEND:20250702T130000Z
LOCATION:Kath. Kirche Bazenheid\, Kirchstrasse 11\, 9602 Bazenheid
TRANSP:OPAQUE
SEQUENCE:0
UID:18956-veranstaltung@ref-toggenburg.ch
DTSTAMP:20251117T173559Z
DESCRIPTION:Kontakt: Evang. Pfarramt \n\nWeitere Infos:
  https://www.ref-toggenburg.ch/veranstaltung/18956
SUMMARY:Abdankungsgottesdienst Margaretha Willaredt
PRIORITY:5
X-MICROSOFT-CDO-IMPORTANCE:1
CLASS:PUBLIC
END:VEVENT
END:VCALENDAR
