BEGIN:VCALENDAR
PRODID:-//kirchenweb.ch gmbh//veranstaltungsausgabe v2.0//DE
VERSION:2.0
METHOD:PUBLISH
BEGIN:VEVENT
DTSTART:20261018T073000Z
DTEND:20261018T083000Z
LOCATION:Evang. Kirche Ganterschwil\, Neckertalstr. 1\, 9608 Ganterschwil
TRANSP:OPAQUE
SEQUENCE:0
UID:19027-veranstaltung@ref-toggenburg.ch
DTSTAMP:20260415T052920Z
DESCRIPTION:Im Anschluss Kirchenkaffee. \nFahrplan Kirchenbus:
 \nBütschwil\, Solino (Bushaltestelle): 9.05 Uhr\nBütschwil\, Bahnhof:
  9.10 Uhr\nRückfahrt nach Kirchenkaffee: 11.00 Uhr\nDer Fahrdienst ist
  gratis.\nAlle aufgeführten Stationen werden bedient.\nFalls Sie direkt
  an der Haustüre abgeholt werden möchten\, dürfen Sie sich bis jeweils
  am Samstag davor\, 12.00 Uhr\, telefonisch anmelden unter 071 983 22 42
  bei der Firma Grämiger AG\, Bütschwil.\n\n\nKontakt: Gerhard Bader\n
 \nWeitere Infos: https://www.ref-toggenburg.ch/veranstaltung/19027
SUMMARY:Regio-Gottesdienst in Ganterschwil (mit Fahrdienst)
PRIORITY:5
X-MICROSOFT-CDO-IMPORTANCE:1
CLASS:PUBLIC
END:VEVENT
END:VCALENDAR
