BEGIN:VCALENDAR
PRODID:-//kirchenweb.ch gmbh//veranstaltungsausgabe v2.0//DE
VERSION:2.0
METHOD:PUBLISH
BEGIN:VEVENT
DTSTART:20260719T073000Z
DTEND:20260719T083000Z
LOCATION:Evang. Kirche Ganterschwil\, Neckertalstr. 1\, 9608 Ganterschwil
TRANSP:OPAQUE
SEQUENCE:0
UID:19058-veranstaltung@ref-toggenburg.ch
DTSTAMP:20260413T143940Z
DESCRIPTION:Im Anschluss Kirchenkaffee. \n\nKontakt: Leser\n\nWeitere
  Infos: https://www.ref-toggenburg.ch/veranstaltung/19058
SUMMARY:Regio-Gottesdienst in Ganterschwil
PRIORITY:5
X-MICROSOFT-CDO-IMPORTANCE:1
CLASS:PUBLIC
END:VEVENT
END:VCALENDAR
