BEGIN:VCALENDAR
PRODID:-//kirchenweb.ch gmbh//veranstaltungsausgabe v2.0//DE
VERSION:2.0
METHOD:PUBLISH
BEGIN:VEVENT
DTSTART:20250818T143000Z
DTEND:20250818T153000Z
LOCATION:Gähwil Wald\, \, 9534 Gähwil
TRANSP:OPAQUE
SEQUENCE:0
UID:19082-veranstaltung@ref-toggenburg.ch
DTSTAMP:20250813T174450Z
DESCRIPTION:n diesem Jahr feiern wir den Schulanfang auf besondere Weise
  –\n im Wald.\nRund um das Feuer halten wir eine kurze Andacht und
  bitten um den Segen für das neue Schuljahr.\nWir treffen uns um 16:15
  Uhr vor dem Schulhaus und gehen von dort gemeinsam zum Waldplatz zwischen
  Bruggen und Handbogen.\nIm Anschluss bräteln wir eine Wurst über dem
  Feuer.\nBei schlechtem Wetter feiern wir in der Unterkirche Gähwil. Wir
  werden die Kinder via Schule am Montagmorgen informieren.\nGerne dürfen
  Sie\, wenn Sie möchten\, Ihr Kind zur Feier begleiten.\n\nKontakt:
  Brigitte Witzig\n\nWeitere Infos:
  https://www.ref-toggenburg.ch/veranstaltung/19082
SUMMARY:Ökumenischer Schulanfangs-Gottesdienst
PRIORITY:5
X-MICROSOFT-CDO-IMPORTANCE:1
CLASS:PUBLIC
END:VEVENT
END:VCALENDAR
