BEGIN:VCALENDAR
PRODID:-//kirchenweb.ch gmbh//veranstaltungsausgabe v2.0//DE
VERSION:2.0
METHOD:PUBLISH
BEGIN:VEVENT
DTSTART:20250722T080000Z
DTEND:20250722T083000Z
LOCATION:Sonnegrund\, im engen Familienkreis\, \, 9533 Kirchberg SG
TRANSP:OPAQUE
SEQUENCE:0
UID:19178-veranstaltung@ref-toggenburg.ch
DTSTAMP:20250721T165347Z
DESCRIPTION:Kontakt: Evang. Pfarramt\n\nWeitere Infos:
  https://www.ref-toggenburg.ch/veranstaltung/19178
SUMMARY:Abdankungsgottesdienst Kurt Rohr
PRIORITY:5
X-MICROSOFT-CDO-IMPORTANCE:1
CLASS:PUBLIC
END:VEVENT
END:VCALENDAR
